BEGIN:VCALENDAR
VERSION:2.0
PRODID:-//Potent Ponics - ECPv6.15.1.1//NONSGML v1.0//EN
CALSCALE:GREGORIAN
METHOD:PUBLISH
X-WR-CALNAME:Potent Ponics
X-ORIGINAL-URL:https://www.potentponics.com
X-WR-CALDESC:Events for Potent Ponics
REFRESH-INTERVAL;VALUE=DURATION:PT1H
X-Robots-Tag:noindex
X-PUBLISHED-TTL:PT1H
BEGIN:VTIMEZONE
TZID:America/Los_Angeles
BEGIN:DAYLIGHT
TZOFFSETFROM:-0800
TZOFFSETTO:-0700
TZNAME:PDT
DTSTART:20180311T100000
END:DAYLIGHT
BEGIN:STANDARD
TZOFFSETFROM:-0700
TZOFFSETTO:-0800
TZNAME:PST
DTSTART:20181104T090000
END:STANDARD
END:VTIMEZONE
BEGIN:VTIMEZONE
TZID:UTC
BEGIN:STANDARD
TZOFFSETFROM:+0000
TZOFFSETTO:+0000
TZNAME:UTC
DTSTART:20180101T000000
END:STANDARD
END:VTIMEZONE
BEGIN:VEVENT
DTSTART;TZID=America/Los_Angeles:20181209T090000
DTEND;TZID=America/Los_Angeles:20181210T170000
DTSTAMP:20260423T151241
CREATED:20181202T194633Z
LAST-MODIFIED:20181202T194839Z
UID:554-1544346000-1544461200@www.potentponics.com
SUMMARY:Online Aquaponic Cannabis Class
DESCRIPTION:Learn from the best! \nIn this comprehensive class you will learn everything you need to know to get started with your aquaponic cannabis grow. Teaching this class is Stephen Raisner and Marty Waddell. Steve has many years of experience growing and developing aquaponic cannabis production across North America and the Caribbean in both the home and commercial industries. Some of his clients include Green Relief Inc\, Eco Cultivos\, and more all are the first commercial aquaponic cannabis producers in there prospective regions along with many other nutrient and cannabis companies. He has also been featured in High Times\, Herb\, and other publications to name a few as well as his Youtube channel Potent Ponics. Marty has spent years developing his own aquaponic production methods in Oregon and has gained a HUGE online following with his amazing videos in APMeds Youtube Channel. Together they produce the Growing With Fishes Podcast to spread information and culture on aquaponic cannabis growing. \nIn this in depth live online course you will learn the following: System Design \, Cannabis Types\, Cannabis History\, Greenhouse and Grow Rooms Planning\, Best in the Industry Nutrient Information and dosing on a per Nutrient Basis\, Integrated Pest Management\, Lactobacillus fermentation\, Lighting\, Germination\, Plant Breeding\, Compost Tea Brewing\, Dual Root Zone Planting\, Vermiculture\, Proper Pruning\, Hash Making and Equipment\, Cloning\, Vegging and Flowering\, Trimming and Curing\, Live in Grow Demonstrations\, Live Hash Making Workshop and much much more. \nThe next class will be held on: \nSaturday December 8th and Sunday December 9th \nSaturday February 9th and Sunday February 10th \nSaturday from 9am to 4:30 + – PM PST \nSunday 10 am til 4 or 5 pm depending on questions \nFor any additional questions feel free to email PotentPonics@gmail.com
URL:https://www.potentponics.com/event/online-aquaponic-cannabis-class/
LOCATION:PA\, United States
CATEGORIES:Online Aquaponic Cannabis Class
ORGANIZER;CN="Potent Ponics":MAILTO:potentponics@gmail.com
END:VEVENT
BEGIN:VEVENT
DTSTART;TZID=UTC:20181124T080000
DTEND;TZID=UTC:20181124T170000
DTSTAMP:20260423T151241
CREATED:20181123T233153Z
LAST-MODIFIED:20181123T233153Z
UID:540-1543046400-1543078800@www.potentponics.com
SUMMARY:test
DESCRIPTION:test
URL:https://www.potentponics.com/event/test/
LOCATION:1\, 2\, 3\, Åland Islands
END:VEVENT
END:VCALENDAR